BEGIN:VCALENDAR
VERSION:2.0
PRODID:-//Post 255 - ECPv6.15.20//NONSGML v1.0//EN
CALSCALE:GREGORIAN
METHOD:PUBLISH
X-WR-CALNAME:Post 255
X-ORIGINAL-URL:https://al255deltona.org
X-WR-CALDESC:Events for Post 255
REFRESH-INTERVAL;VALUE=DURATION:PT1H
X-Robots-Tag:noindex
X-PUBLISHED-TTL:PT1H
BEGIN:VTIMEZONE
TZID:America/New_York
BEGIN:DAYLIGHT
TZOFFSETFROM:-0500
TZOFFSETTO:-0400
TZNAME:EDT
DTSTART:20240310T070000
END:DAYLIGHT
BEGIN:STANDARD
TZOFFSETFROM:-0400
TZOFFSETTO:-0500
TZNAME:EST
DTSTART:20241103T060000
END:STANDARD
BEGIN:DAYLIGHT
TZOFFSETFROM:-0500
TZOFFSETTO:-0400
TZNAME:EDT
DTSTART:20250309T070000
END:DAYLIGHT
BEGIN:STANDARD
TZOFFSETFROM:-0400
TZOFFSETTO:-0500
TZNAME:EST
DTSTART:20251102T060000
END:STANDARD
BEGIN:DAYLIGHT
TZOFFSETFROM:-0500
TZOFFSETTO:-0400
TZNAME:EDT
DTSTART:20260308T070000
END:DAYLIGHT
BEGIN:STANDARD
TZOFFSETFROM:-0400
TZOFFSETTO:-0500
TZNAME:EST
DTSTART:20261101T060000
END:STANDARD
END:VTIMEZONE
BEGIN:VEVENT
DTSTART;TZID=America/New_York:20250814T080000
DTEND;TZID=America/New_York:20250814T170000
DTSTAMP:20260421T092336
CREATED:20230619T170339Z
LAST-MODIFIED:20250527T150703Z
UID:3501-1755158400-1755190800@al255deltona.org
SUMMARY:VCEP Meeting
DESCRIPTION:VCEP meeting to discuss the museum business. All members are invited to attend.
URL:https://al255deltona.org/event/vcep-meeting-8/
LOCATION:Veterans Memorial Park – Deltona\, FL\, 1912 Evard Ave\, Deltona\, FL\, 32725
CATEGORIES:Community
END:VEVENT
BEGIN:VEVENT
DTSTART;TZID=America/New_York:20250719T180000
DTEND;TZID=America/New_York:20250719T220000
DTSTAMP:20260421T092336
CREATED:20230413T092147Z
LAST-MODIFIED:20250410T113051Z
UID:3241-1752948000-1752962400@al255deltona.org
SUMMARY:TJB Scholarship Dinner
DESCRIPTION:
URL:https://al255deltona.org/event/tjb-scholarship-and-salute-to-veterans-concert/
LOCATION:Center at Deltona\, 1640 Dr\, MLK Blvd\, Deltona\, FL\, 32725\, United States
CATEGORIES:Community
END:VEVENT
BEGIN:VEVENT
DTSTART;TZID=America/New_York:20250710T080000
DTEND;TZID=America/New_York:20250710T170000
DTSTAMP:20260421T092336
CREATED:20230530T185258Z
LAST-MODIFIED:20250527T150310Z
UID:3440-1752134400-1752166800@al255deltona.org
SUMMARY:VCEP Meeting
DESCRIPTION:
URL:https://al255deltona.org/event/vcep-meeting-7/
LOCATION:Veterans Memorial Park – Deltona\, FL\, 1912 Evard Ave\, Deltona\, FL\, 32725
CATEGORIES:Community
END:VEVENT
BEGIN:VEVENT
DTSTART;TZID=America/New_York:20250526T130000
DTEND;TZID=America/New_York:20250526T140000
DTSTAMP:20260421T092336
CREATED:20240411T123640Z
LAST-MODIFIED:20250527T145347Z
UID:4354-1748264400-1748268000@al255deltona.org
SUMMARY:Memorial Day Ceremony (Museum)
DESCRIPTION:This day is set aside to remember those who have fallen in defense of our country.
URL:https://al255deltona.org/event/memorial-day-ceremony-museum/
LOCATION:Veterans Memorial Park – Deltona\, FL\, 1912 Evard Ave\, Deltona\, FL\, 32725
CATEGORIES:Community,Post
END:VEVENT
BEGIN:VEVENT
DTSTART;TZID=America/New_York:20250526T110000
DTEND;TZID=America/New_York:20250526T120000
DTSTAMP:20260421T092336
CREATED:20220301T180844Z
LAST-MODIFIED:20250527T145314Z
UID:1313-1748257200-1748260800@al255deltona.org
SUMMARY:Memorial Day Ceremony (Cemetery)
DESCRIPTION:Honoring our fallen service men and women.
URL:https://al255deltona.org/event/memorial-day-ceremony/
LOCATION:Deltona Memorial Gardens\, 1295 Saxon Blvd\, Orange City\, FL\, 32763\, United States
CATEGORIES:Community,Post
END:VEVENT
BEGIN:VEVENT
DTSTART;TZID=America/New_York:20250524T090000
DTEND;TZID=America/New_York:20250524T170000
DTSTAMP:20260421T092336
CREATED:20250410T112328Z
LAST-MODIFIED:20250410T112328Z
UID:5038-1748077200-1748106000@al255deltona.org
SUMMARY:VEMA Memorial Day Ride
DESCRIPTION:This is an escorted ride to honor Veterans and 1st Responders. Starts and ends at Deltona City Hall with KSU at 0900.
URL:https://al255deltona.org/event/vema-memorial-day-ride/
LOCATION:Deltona City Hall\, 2345 Providence Blvd\, Deltona\, FL\, 32725\, United States
CATEGORIES:Community
END:VEVENT
BEGIN:VEVENT
DTSTART;TZID=America/New_York:20250508T180000
DTEND;TZID=America/New_York:20250508T190000
DTSTAMP:20260421T092336
CREATED:20230403T140113Z
LAST-MODIFIED:20250322T101741Z
UID:3204-1746727200-1746730800@al255deltona.org
SUMMARY:VCEP Meeting
DESCRIPTION:
URL:https://al255deltona.org/event/vcep-meeting-6/
LOCATION:Veterans Memorial Park – Deltona\, FL\, 1912 Evard Ave\, Deltona\, FL\, 32725
CATEGORIES:Community
END:VEVENT
BEGIN:VEVENT
DTSTART;VALUE=DATE:20250508
DTEND;VALUE=DATE:20250512
DTSTAMP:20260421T092336
CREATED:20240108T122958Z
LAST-MODIFIED:20250322T102244Z
UID:4097-1746662400-1747007999@al255deltona.org
SUMMARY:Veterans Reunion
DESCRIPTION:
URL:https://al255deltona.org/event/veterans-reunion/
LOCATION:Wickham Park\, 2500 Parkway Dr\, Melbourne\, FL\, 32935\, United States
CATEGORIES:Community
END:VEVENT
BEGIN:VEVENT
DTSTART;TZID=America/New_York:20250425T090000
DTEND;TZID=America/New_York:20250425T100000
DTSTAMP:20260421T092336
CREATED:20250417T123657Z
LAST-MODIFIED:20250417T123657Z
UID:5091-1745571600-1745575200@al255deltona.org
SUMMARY:Volusia County Veterans Memorial Plaza
DESCRIPTION:
URL:https://al255deltona.org/event/volusia-county-veterans-memorial-plaza/
LOCATION:Veterans Memorial Plaza\, 125 E Orange Ave\, Daytona Beach\, FL\, 32114\, United States
CATEGORIES:Community
END:VEVENT
END:VCALENDAR