BEGIN:VCALENDAR
VERSION:2.0
PRODID:-//Post 255 - ECPv6.15.20//NONSGML v1.0//EN
CALSCALE:GREGORIAN
METHOD:PUBLISH
X-ORIGINAL-URL:https://al255deltona.org
X-WR-CALDESC:Events for Post 255
REFRESH-INTERVAL;VALUE=DURATION:PT1H
X-Robots-Tag:noindex
X-PUBLISHED-TTL:PT1H
BEGIN:VTIMEZONE
TZID:America/New_York
BEGIN:DAYLIGHT
TZOFFSETFROM:-0500
TZOFFSETTO:-0400
TZNAME:EDT
DTSTART:20250309T070000
END:DAYLIGHT
BEGIN:STANDARD
TZOFFSETFROM:-0400
TZOFFSETTO:-0500
TZNAME:EST
DTSTART:20251102T060000
END:STANDARD
BEGIN:DAYLIGHT
TZOFFSETFROM:-0500
TZOFFSETTO:-0400
TZNAME:EDT
DTSTART:20260308T070000
END:DAYLIGHT
BEGIN:STANDARD
TZOFFSETFROM:-0400
TZOFFSETTO:-0500
TZNAME:EST
DTSTART:20261101T060000
END:STANDARD
BEGIN:DAYLIGHT
TZOFFSETFROM:-0500
TZOFFSETTO:-0400
TZNAME:EDT
DTSTART:20270314T070000
END:DAYLIGHT
BEGIN:STANDARD
TZOFFSETFROM:-0400
TZOFFSETTO:-0500
TZNAME:EST
DTSTART:20271107T060000
END:STANDARD
END:VTIMEZONE
BEGIN:VEVENT
DTSTART;VALUE=DATE:20260216
DTEND;VALUE=DATE:20260217
DTSTAMP:20260421T151246
CREATED:20260116T012200Z
LAST-MODIFIED:20260116T012200Z
UID:5401-1771200000-1771286399@al255deltona.org
SUMMARY:Presidents Day
DESCRIPTION:
URL:https://al255deltona.org/event/presidents-day-2/
LOCATION:Nation Wide
CATEGORIES:Community
END:VEVENT
BEGIN:VEVENT
DTSTART;TZID=America/New_York:20260221T100000
DTEND;TZID=America/New_York:20260221T170000
DTSTAMP:20260421T151246
CREATED:20260206T224744Z
LAST-MODIFIED:20260206T224744Z
UID:5519-1771668000-1771693200@al255deltona.org
SUMMARY:District 17 Meeting
DESCRIPTION:
URL:https://al255deltona.org/event/district-17-meeting/
LOCATION:Post 285\, 4497 S US 1\, Edgewater\, FL\, 32141\, United States
CATEGORIES:Community
END:VEVENT
BEGIN:VEVENT
DTSTART;VALUE=DATE:20260227
DTEND;VALUE=DATE:20260309
DTSTAMP:20260421T151246
CREATED:20260112T003455Z
LAST-MODIFIED:20260112T003455Z
UID:5353-1772150400-1773014399@al255deltona.org
SUMMARY:85th Annual Daytona Bike Week
DESCRIPTION:
URL:https://al255deltona.org/event/85th-annual-daytona-bike-week/
LOCATION:Daytona Beach
CATEGORIES:Community
END:VEVENT
BEGIN:VEVENT
DTSTART;VALUE=DATE:20260228
DTEND;VALUE=DATE:20260301
DTSTAMP:20260421T151246
CREATED:20260116T012530Z
LAST-MODIFIED:20260116T012530Z
UID:5405-1772236800-1772323199@al255deltona.org
SUMMARY:Deland Bike Rally
DESCRIPTION:
URL:https://al255deltona.org/event/deland-bike-rally/
CATEGORIES:Community
END:VEVENT
BEGIN:VEVENT
DTSTART;VALUE=DATE:20260303
DTEND;VALUE=DATE:20260304
DTSTAMP:20260421T151246
CREATED:20260116T012741Z
LAST-MODIFIED:20260116T012741Z
UID:5407-1772496000-1772582399@al255deltona.org
SUMMARY:Star Spangled Day
DESCRIPTION:
URL:https://al255deltona.org/event/star-spangled-day/
LOCATION:Nation Wide
CATEGORIES:Community
END:VEVENT
BEGIN:VEVENT
DTSTART;TZID=America/New_York:20260312T180000
DTEND;TZID=America/New_York:20260312T190000
DTSTAMP:20260421T151246
CREATED:20260214T153526Z
LAST-MODIFIED:20260214T153526Z
UID:5527-1773338400-1773342000@al255deltona.org
SUMMARY:VCEP Meeting
DESCRIPTION:
URL:https://al255deltona.org/event/vcep-meeting-3/
LOCATION:Veterans Memorial Park – Deltona\, FL\, 1912 Evard Ave\, Deltona\, FL\, 32725
CATEGORIES:Community
END:VEVENT
BEGIN:VEVENT
DTSTART;VALUE=DATE:20260313
DTEND;VALUE=DATE:20260314
DTSTAMP:20260421T151246
CREATED:20260116T012824Z
LAST-MODIFIED:20260214T153614Z
UID:5409-1773360000-1773446399@al255deltona.org
SUMMARY:K-9 Veterans Day
DESCRIPTION:
URL:https://al255deltona.org/event/k-9-veterans-day/
LOCATION:Nation Wide
CATEGORIES:Community
END:VEVENT
BEGIN:VEVENT
DTSTART;TZID=America/New_York:20260319T080000
DTEND;TZID=America/New_York:20260319T170000
DTSTAMP:20260421T151246
CREATED:20260112T004729Z
LAST-MODIFIED:20260112T004729Z
UID:5362-1773907200-1773939600@al255deltona.org
SUMMARY:Volusia County Veterans Services Stand Down 2026 Setup
DESCRIPTION:
URL:https://al255deltona.org/event/volusia-county-veterans-services-stand-down-2026-setup/
LOCATION:Center at Deltona\, 1640 Dr\, MLK Blvd\, Deltona\, FL\, 32725\, United States
CATEGORIES:Community
END:VEVENT
BEGIN:VEVENT
DTSTART;TZID=America/New_York:20260320T090000
DTEND;TZID=America/New_York:20260320T140000
DTSTAMP:20260421T151246
CREATED:20260112T004020Z
LAST-MODIFIED:20260112T004020Z
UID:5355-1773997200-1774015200@al255deltona.org
SUMMARY:Volusia County Veterans Services Stand Down 2026
DESCRIPTION:
URL:https://al255deltona.org/event/volusia-county-veterans-services-stand-down-2026/
LOCATION:Center at Deltona\, 1640 Dr\, MLK Blvd\, Deltona\, FL\, 32725\, United States
CATEGORIES:Community
END:VEVENT
BEGIN:VEVENT
DTSTART;VALUE=DATE:20260321
DTEND;VALUE=DATE:20260322
DTSTAMP:20260421T151246
CREATED:20260116T012902Z
LAST-MODIFIED:20260116T012902Z
UID:5411-1774051200-1774137599@al255deltona.org
SUMMARY:Rosie The Riveter Day
DESCRIPTION:
URL:https://al255deltona.org/event/rosie-the-riveter-day/
LOCATION:Nation Wide
CATEGORIES:Community
END:VEVENT
BEGIN:VEVENT
DTSTART;TZID=America/New_York:20260321T090000
DTEND;TZID=America/New_York:20260321T140000
DTSTAMP:20260421T151246
CREATED:20260112T004118Z
LAST-MODIFIED:20260112T004118Z
UID:5357-1774083600-1774101600@al255deltona.org
SUMMARY:Volusia County Veterans Services Stand Down 2026
DESCRIPTION:
URL:https://al255deltona.org/event/volusia-county-veterans-services-stand-down-2026-2/
LOCATION:Center at Deltona\, 1640 Dr\, MLK Blvd\, Deltona\, FL\, 32725\, United States
CATEGORIES:Community
END:VEVENT
BEGIN:VEVENT
DTSTART;VALUE=DATE:20260325
DTEND;VALUE=DATE:20260326
DTSTAMP:20260421T151246
CREATED:20260116T012930Z
LAST-MODIFIED:20260116T012930Z
UID:5413-1774396800-1774483199@al255deltona.org
SUMMARY:Medal of Honor Day
DESCRIPTION:
URL:https://al255deltona.org/event/medal-of-honor-day-2/
LOCATION:Nation Wide
CATEGORIES:Community
END:VEVENT
BEGIN:VEVENT
DTSTART;VALUE=DATE:20260329
DTEND;VALUE=DATE:20260330
DTSTAMP:20260421T151246
CREATED:20260116T012958Z
LAST-MODIFIED:20260116T012958Z
UID:5415-1774742400-1774828799@al255deltona.org
SUMMARY:National Vietnam War Veterans Day
DESCRIPTION:
URL:https://al255deltona.org/event/national-vietnam-war-veterans-day/
LOCATION:Nation Wide
CATEGORIES:Community
END:VEVENT
BEGIN:VEVENT
DTSTART;TZID=America/New_York:20260402T180000
DTEND;TZID=America/New_York:20260402T190000
DTSTAMP:20260421T151246
CREATED:20260122T235041Z
LAST-MODIFIED:20260122T235041Z
UID:5432-1775152800-1775156400@al255deltona.org
SUMMARY:Deltona HS JROTC Awards Ceremony
DESCRIPTION:4-2 DHS Wolves BN_Award Ceremony_Invitation_2026
URL:https://al255deltona.org/event/deltona-hs-jrotc-awards-ceremony/
LOCATION:Deltona HS\, 100 Wolf Pack Run\, Deltona\, FL\, 32725\, United States
CATEGORIES:Community
END:VEVENT
BEGIN:VEVENT
DTSTART;VALUE=DATE:20260405
DTEND;VALUE=DATE:20260406
DTSTAMP:20260421T151246
CREATED:20260116T013034Z
LAST-MODIFIED:20260116T013034Z
UID:5417-1775347200-1775433599@al255deltona.org
SUMMARY:Gold Star Spouses Day
DESCRIPTION:
URL:https://al255deltona.org/event/gold-star-spouses-day/
LOCATION:Nation Wide
CATEGORIES:Community
END:VEVENT
BEGIN:VEVENT
DTSTART;TZID=America/New_York:20260410T080000
DTEND;TZID=America/New_York:20260410T170000
DTSTAMP:20260421T151246
CREATED:20260112T004904Z
LAST-MODIFIED:20260112T004904Z
UID:5366-1775808000-1775840400@al255deltona.org
SUMMARY:Law & Order Luncheon & Ceremony
DESCRIPTION:
URL:https://al255deltona.org/event/law-order-luncheon-ceremony/
CATEGORIES:Community
END:VEVENT
BEGIN:VEVENT
DTSTART;TZID=America/New_York:20260411T080000
DTEND;TZID=America/New_York:20260411T170000
DTSTAMP:20260421T151246
CREATED:20260112T004934Z
LAST-MODIFIED:20260112T004934Z
UID:5368-1775894400-1775926800@al255deltona.org
SUMMARY:Dist 17 Picnic
DESCRIPTION:
URL:https://al255deltona.org/event/dist-17-picnic/
CATEGORIES:Community
END:VEVENT
BEGIN:VEVENT
DTSTART;VALUE=DATE:20260415
DTEND;VALUE=DATE:20260416
DTSTAMP:20260421T151246
CREATED:20260122T235304Z
LAST-MODIFIED:20260122T235304Z
UID:5435-1776211200-1776297599@al255deltona.org
SUMMARY:Purple Up Day
DESCRIPTION:
URL:https://al255deltona.org/event/purple-up-day/
LOCATION:Nation Wide
CATEGORIES:Community
END:VEVENT
BEGIN:VEVENT
DTSTART;VALUE=DATE:20260419
DTEND;VALUE=DATE:20260425
DTSTAMP:20260421T151246
CREATED:20260112T005016Z
LAST-MODIFIED:20260112T005016Z
UID:5370-1776556800-1777075199@al255deltona.org
SUMMARY:In-State Unity Ride
DESCRIPTION:
URL:https://al255deltona.org/event/in-state-unity-ride/
CATEGORIES:Community
END:VEVENT
END:VCALENDAR