BEGIN:VCALENDAR
VERSION:2.0
PRODID:-//Post 255 - ECPv6.15.20//NONSGML v1.0//EN
CALSCALE:GREGORIAN
METHOD:PUBLISH
X-WR-CALNAME:Post 255
X-ORIGINAL-URL:https://al255deltona.org
X-WR-CALDESC:Events for Post 255
REFRESH-INTERVAL;VALUE=DURATION:PT1H
X-Robots-Tag:noindex
X-PUBLISHED-TTL:PT1H
BEGIN:VTIMEZONE
TZID:America/New_York
BEGIN:DAYLIGHT
TZOFFSETFROM:-0500
TZOFFSETTO:-0400
TZNAME:EDT
DTSTART:20250309T070000
END:DAYLIGHT
BEGIN:STANDARD
TZOFFSETFROM:-0400
TZOFFSETTO:-0500
TZNAME:EST
DTSTART:20251102T060000
END:STANDARD
BEGIN:DAYLIGHT
TZOFFSETFROM:-0500
TZOFFSETTO:-0400
TZNAME:EDT
DTSTART:20260308T070000
END:DAYLIGHT
BEGIN:STANDARD
TZOFFSETFROM:-0400
TZOFFSETTO:-0500
TZNAME:EST
DTSTART:20261101T060000
END:STANDARD
BEGIN:DAYLIGHT
TZOFFSETFROM:-0500
TZOFFSETTO:-0400
TZNAME:EDT
DTSTART:20270314T070000
END:DAYLIGHT
BEGIN:STANDARD
TZOFFSETFROM:-0400
TZOFFSETTO:-0500
TZNAME:EST
DTSTART:20271107T060000
END:STANDARD
END:VTIMEZONE
BEGIN:VEVENT
DTSTART;TZID=America/New_York:20260402T180000
DTEND;TZID=America/New_York:20260402T190000
DTSTAMP:20260421T052346
CREATED:20260122T235041Z
LAST-MODIFIED:20260122T235041Z
UID:5432-1775152800-1775156400@al255deltona.org
SUMMARY:Deltona HS JROTC Awards Ceremony
DESCRIPTION:4-2 DHS Wolves BN_Award Ceremony_Invitation_2026
URL:https://al255deltona.org/event/deltona-hs-jrotc-awards-ceremony/
LOCATION:Deltona HS\, 100 Wolf Pack Run\, Deltona\, FL\, 32725\, United States
CATEGORIES:Community
END:VEVENT
END:VCALENDAR