BEGIN:VCALENDAR
VERSION:2.0
PRODID:-//Post 255 - ECPv6.15.20//NONSGML v1.0//EN
CALSCALE:GREGORIAN
METHOD:PUBLISH
X-WR-CALNAME:Post 255
X-ORIGINAL-URL:https://al255deltona.org
X-WR-CALDESC:Events for Post 255
REFRESH-INTERVAL;VALUE=DURATION:PT1H
X-Robots-Tag:noindex
X-PUBLISHED-TTL:PT1H
BEGIN:VTIMEZONE
TZID:America/New_York
BEGIN:DAYLIGHT
TZOFFSETFROM:-0500
TZOFFSETTO:-0400
TZNAME:EDT
DTSTART:20250309T070000
END:DAYLIGHT
BEGIN:STANDARD
TZOFFSETFROM:-0400
TZOFFSETTO:-0500
TZNAME:EST
DTSTART:20251102T060000
END:STANDARD
BEGIN:DAYLIGHT
TZOFFSETFROM:-0500
TZOFFSETTO:-0400
TZNAME:EDT
DTSTART:20260308T070000
END:DAYLIGHT
BEGIN:STANDARD
TZOFFSETFROM:-0400
TZOFFSETTO:-0500
TZNAME:EST
DTSTART:20261101T060000
END:STANDARD
BEGIN:DAYLIGHT
TZOFFSETFROM:-0500
TZOFFSETTO:-0400
TZNAME:EDT
DTSTART:20270314T070000
END:DAYLIGHT
BEGIN:STANDARD
TZOFFSETFROM:-0400
TZOFFSETTO:-0500
TZNAME:EST
DTSTART:20271107T060000
END:STANDARD
END:VTIMEZONE
BEGIN:VEVENT
DTSTART;TZID=America/New_York:20260204T120000
DTEND;TZID=America/New_York:20260204T140000
DTSTAMP:20260421T064800
CREATED:20260130T020048Z
LAST-MODIFIED:20260130T020048Z
UID:5437-1770206400-1770213600@al255deltona.org
SUMMARY:COMMUNITY ECONOMY AND LEADERSHIP EXCHANGE
DESCRIPTION:
URL:https://al255deltona.org/event/community-economy-and-leadership-exchange/
LOCATION:Center at Deltona\, 1640 Dr\, MLK Blvd\, Deltona\, FL\, 32725\, United States
CATEGORIES:Community
END:VEVENT
BEGIN:VEVENT
DTSTART;TZID=America/New_York:20260212T180000
DTEND;TZID=America/New_York:20260212T190000
DTSTAMP:20260421T064800
CREATED:20260112T001942Z
LAST-MODIFIED:20260112T001942Z
UID:5337-1770919200-1770922800@al255deltona.org
SUMMARY:VCEP Meeting
DESCRIPTION:
URL:https://al255deltona.org/event/vcep-meeting-11/
LOCATION:Veterans Memorial Park – Deltona\, FL\, 1912 Evard Ave\, Deltona\, FL\, 32725
CATEGORIES:Community
END:VEVENT
BEGIN:VEVENT
DTSTART;VALUE=DATE:20260216
DTEND;VALUE=DATE:20260217
DTSTAMP:20260421T064800
CREATED:20260116T012200Z
LAST-MODIFIED:20260116T012200Z
UID:5401-1771200000-1771286399@al255deltona.org
SUMMARY:Presidents Day
DESCRIPTION:
URL:https://al255deltona.org/event/presidents-day-2/
LOCATION:Nation Wide
CATEGORIES:Community
END:VEVENT
BEGIN:VEVENT
DTSTART;TZID=America/New_York:20260221T100000
DTEND;TZID=America/New_York:20260221T170000
DTSTAMP:20260421T064800
CREATED:20260206T224744Z
LAST-MODIFIED:20260206T224744Z
UID:5519-1771668000-1771693200@al255deltona.org
SUMMARY:District 17 Meeting
DESCRIPTION:
URL:https://al255deltona.org/event/district-17-meeting/
LOCATION:Post 285\, 4497 S US 1\, Edgewater\, FL\, 32141\, United States
CATEGORIES:Community
END:VEVENT
BEGIN:VEVENT
DTSTART;VALUE=DATE:20260227
DTEND;VALUE=DATE:20260309
DTSTAMP:20260421T064800
CREATED:20260112T003455Z
LAST-MODIFIED:20260112T003455Z
UID:5353-1772150400-1773014399@al255deltona.org
SUMMARY:85th Annual Daytona Bike Week
DESCRIPTION:
URL:https://al255deltona.org/event/85th-annual-daytona-bike-week/
LOCATION:Daytona Beach
CATEGORIES:Community
END:VEVENT
BEGIN:VEVENT
DTSTART;VALUE=DATE:20260228
DTEND;VALUE=DATE:20260301
DTSTAMP:20260421T064800
CREATED:20260116T012530Z
LAST-MODIFIED:20260116T012530Z
UID:5405-1772236800-1772323199@al255deltona.org
SUMMARY:Deland Bike Rally
DESCRIPTION:
URL:https://al255deltona.org/event/deland-bike-rally/
LOCATION:FL
CATEGORIES:Community
END:VEVENT
END:VCALENDAR