BEGIN:VCALENDAR
VERSION:2.0
PRODID:-//Post 255 - ECPv6.15.20//NONSGML v1.0//EN
CALSCALE:GREGORIAN
METHOD:PUBLISH
X-WR-CALNAME:Post 255
X-ORIGINAL-URL:https://al255deltona.org
X-WR-CALDESC:Events for Post 255
REFRESH-INTERVAL;VALUE=DURATION:PT1H
X-Robots-Tag:noindex
X-PUBLISHED-TTL:PT1H
BEGIN:VTIMEZONE
TZID:America/New_York
BEGIN:DAYLIGHT
TZOFFSETFROM:-0500
TZOFFSETTO:-0400
TZNAME:EDT
DTSTART:20240310T070000
END:DAYLIGHT
BEGIN:STANDARD
TZOFFSETFROM:-0400
TZOFFSETTO:-0500
TZNAME:EST
DTSTART:20241103T060000
END:STANDARD
BEGIN:DAYLIGHT
TZOFFSETFROM:-0500
TZOFFSETTO:-0400
TZNAME:EDT
DTSTART:20250309T070000
END:DAYLIGHT
BEGIN:STANDARD
TZOFFSETFROM:-0400
TZOFFSETTO:-0500
TZNAME:EST
DTSTART:20251102T060000
END:STANDARD
BEGIN:DAYLIGHT
TZOFFSETFROM:-0500
TZOFFSETTO:-0400
TZNAME:EDT
DTSTART:20260308T070000
END:DAYLIGHT
BEGIN:STANDARD
TZOFFSETFROM:-0400
TZOFFSETTO:-0500
TZNAME:EST
DTSTART:20261101T060000
END:STANDARD
END:VTIMEZONE
BEGIN:VEVENT
DTSTART;VALUE=DATE:20251207
DTEND;VALUE=DATE:20251208
DTSTAMP:20260421T091739
CREATED:20251103T231510Z
LAST-MODIFIED:20251103T234830Z
UID:5243-1765065600-1765151999@al255deltona.org
SUMMARY:Pearl Harbor Day
DESCRIPTION:
URL:https://al255deltona.org/event/pearl-harbor-day-2/
LOCATION:Nation Wide
CATEGORIES:Community
END:VEVENT
BEGIN:VEVENT
DTSTART;TZID=America/New_York:20251211T180000
DTEND;TZID=America/New_York:20251211T190000
DTSTAMP:20260421T091739
CREATED:20251206T002912Z
LAST-MODIFIED:20251206T002912Z
UID:5289-1765476000-1765479600@al255deltona.org
SUMMARY:VCEP Meeting
DESCRIPTION:
URL:https://al255deltona.org/event/vcep-meeting-12/
LOCATION:Veterans Memorial Park – Deltona\, FL\, 1912 Evard Ave\, Deltona\, FL\, 32725
CATEGORIES:Community
END:VEVENT
BEGIN:VEVENT
DTSTART;TZID=America/New_York:20251213T120000
DTEND;TZID=America/New_York:20251213T140000
DTSTAMP:20260421T091739
CREATED:20251103T232046Z
LAST-MODIFIED:20251103T232840Z
UID:5247-1765627200-1765634400@al255deltona.org
SUMMARY:Wreaths Across America
DESCRIPTION:
URL:https://al255deltona.org/event/wreaths-across-america-2/
LOCATION:Deltona Memorial Gardens\, 1295 Saxon Blvd\, Orange City\, FL\, 32763\, United States
CATEGORIES:Community
END:VEVENT
BEGIN:VEVENT
DTSTART;TZID=America/New_York:20251213T180000
DTEND;TZID=America/New_York:20251213T200000
DTSTAMP:20260421T091739
CREATED:20251206T003333Z
LAST-MODIFIED:20251206T003333Z
UID:5291-1765648800-1765656000@al255deltona.org
SUMMARY:City of Deltona Christmas Parade
DESCRIPTION:
URL:https://al255deltona.org/event/city-of-deltona-christmas-parade/
LOCATION:FL
CATEGORIES:Community
END:VEVENT
BEGIN:VEVENT
DTSTART;VALUE=DATE:20251220
DTEND;VALUE=DATE:20251221
DTSTAMP:20260421T091739
CREATED:20251103T232425Z
LAST-MODIFIED:20251103T232923Z
UID:5252-1766188800-1766275199@al255deltona.org
SUMMARY:US Space Force Birthday
DESCRIPTION:
URL:https://al255deltona.org/event/us-space-force-birthday/
LOCATION:Nation Wide
CATEGORIES:Community
END:VEVENT
END:VCALENDAR