BEGIN:VCALENDAR
VERSION:2.0
PRODID:-//Post 255 - ECPv6.15.20//NONSGML v1.0//EN
CALSCALE:GREGORIAN
METHOD:PUBLISH
X-ORIGINAL-URL:https://al255deltona.org
X-WR-CALDESC:Events for Post 255
REFRESH-INTERVAL;VALUE=DURATION:PT1H
X-Robots-Tag:noindex
X-PUBLISHED-TTL:PT1H
BEGIN:VTIMEZONE
TZID:America/New_York
BEGIN:DAYLIGHT
TZOFFSETFROM:-0500
TZOFFSETTO:-0400
TZNAME:EDT
DTSTART:20240310T070000
END:DAYLIGHT
BEGIN:STANDARD
TZOFFSETFROM:-0400
TZOFFSETTO:-0500
TZNAME:EST
DTSTART:20241103T060000
END:STANDARD
BEGIN:DAYLIGHT
TZOFFSETFROM:-0500
TZOFFSETTO:-0400
TZNAME:EDT
DTSTART:20250309T070000
END:DAYLIGHT
BEGIN:STANDARD
TZOFFSETFROM:-0400
TZOFFSETTO:-0500
TZNAME:EST
DTSTART:20251102T060000
END:STANDARD
BEGIN:DAYLIGHT
TZOFFSETFROM:-0500
TZOFFSETTO:-0400
TZNAME:EDT
DTSTART:20260308T070000
END:DAYLIGHT
BEGIN:STANDARD
TZOFFSETFROM:-0400
TZOFFSETTO:-0500
TZNAME:EST
DTSTART:20261101T060000
END:STANDARD
END:VTIMEZONE
BEGIN:VEVENT
DTSTART;TZID=America/New_York:20251009T180000
DTEND;TZID=America/New_York:20251009T190000
DTSTAMP:20260421T120739
CREATED:20230817T091152Z
LAST-MODIFIED:20250905T114005Z
UID:3669-1760032800-1760036400@al255deltona.org
SUMMARY:VCEP Meeting
DESCRIPTION:
URL:https://al255deltona.org/event/vcep-meeting-10/
LOCATION:Veterans Memorial Park – Deltona\, FL\, 1912 Evard Ave\, Deltona\, FL\, 32725
CATEGORIES:Community
END:VEVENT
BEGIN:VEVENT
DTSTART;VALUE=DATE:20251013
DTEND;VALUE=DATE:20251014
DTSTAMP:20260421T120739
CREATED:20230817T091638Z
LAST-MODIFIED:20250905T114103Z
UID:3672-1760313600-1760399999@al255deltona.org
SUMMARY:Happy Birthday US Navy
DESCRIPTION:
URL:https://al255deltona.org/event/happy-birthday-us-navy/
LOCATION:Nation Wide
CATEGORIES:Community
END:VEVENT
BEGIN:VEVENT
DTSTART;VALUE=DATE:20251016
DTEND;VALUE=DATE:20251020
DTSTAMP:20260421T120739
CREATED:20230425T153450Z
LAST-MODIFIED:20250905T114306Z
UID:3292-1760572800-1760918399@al255deltona.org
SUMMARY:Biketoberfest
DESCRIPTION:
URL:https://al255deltona.org/event/biketoberfest/
LOCATION:FL
CATEGORIES:Community
END:VEVENT
BEGIN:VEVENT
DTSTART;TZID=America/New_York:20251018T160000
DTEND;TZID=America/New_York:20251018T180000
DTSTAMP:20260421T120739
CREATED:20230926T173635Z
LAST-MODIFIED:20250912T101600Z
UID:3767-1760803200-1760810400@al255deltona.org
SUMMARY:Trunk-n-Treat
DESCRIPTION:Cross Walk Church is organizing this event. Come ready to show off your costumes and do a little pre-Halloween trick or treating. \n \n 
URL:https://al255deltona.org/event/trunk-n-treat/
LOCATION:Crosswalk Church\, 181 Wolf Pack Run\, Deltona\, 32725
CATEGORIES:Community
END:VEVENT
END:VCALENDAR